BEGIN:VCALENDAR
VERSION:2.0
PRODID:-//Christ en Action Évangélisation Montréal - ECPv6.15.20//NONSGML v1.0//EN
CALSCALE:GREGORIAN
METHOD:PUBLISH
X-ORIGINAL-URL:http://christenaction.com
X-WR-CALDESC:Évènements pour Christ en Action Évangélisation Montréal
REFRESH-INTERVAL;VALUE=DURATION:PT1H
X-Robots-Tag:noindex
X-PUBLISHED-TTL:PT1H
BEGIN:VTIMEZONE
TZID:America/Toronto
BEGIN:DAYLIGHT
TZOFFSETFROM:-0500
TZOFFSETTO:-0400
TZNAME:EDT
DTSTART:20220313T070000
END:DAYLIGHT
BEGIN:STANDARD
TZOFFSETFROM:-0400
TZOFFSETTO:-0500
TZNAME:EST
DTSTART:20221106T060000
END:STANDARD
BEGIN:DAYLIGHT
TZOFFSETFROM:-0500
TZOFFSETTO:-0400
TZNAME:EDT
DTSTART:20230312T070000
END:DAYLIGHT
BEGIN:STANDARD
TZOFFSETFROM:-0400
TZOFFSETTO:-0500
TZNAME:EST
DTSTART:20231105T060000
END:STANDARD
BEGIN:DAYLIGHT
TZOFFSETFROM:-0500
TZOFFSETTO:-0400
TZNAME:EDT
DTSTART:20240310T070000
END:DAYLIGHT
BEGIN:STANDARD
TZOFFSETFROM:-0400
TZOFFSETTO:-0500
TZNAME:EST
DTSTART:20241103T060000
END:STANDARD
END:VTIMEZONE
BEGIN:VEVENT
DTSTART;TZID=America/Toronto:20230402T080000
DTEND;TZID=America/Toronto:20230402T101500
DTSTAMP:20260424T011848
CREATED:20230331T135131Z
LAST-MODIFIED:20230331T135409Z
UID:3937-1680422400-1680430500@christenaction.com
SUMMARY:Culte dominical - 1er service
DESCRIPTION:Notre 1er culte du dimanche a lieu de 8h00 à 10h15. \nPrendre note que ce culte est diffusé en direct sur nos canaux Youtube et Facebook. \n 
URL:http://christenaction.com/event/culte-dominical-1er-service/
LOCATION:Auditorium Christ en Action Évangélisation\, 2305 Rue holt\, Montréal\, Québec\, H2G 1Y2\, Canada
ATTACH;FMTTYPE=image/jpeg:http://christenaction.com/wp-content/uploads/2021/05/Nouveau_culte-2.jpg
ORGANIZER;CN="Christ en Action %C3%89vang%C3%A9lisation":MAILTO:info@christenaction.com
END:VEVENT
BEGIN:VEVENT
DTSTART;TZID=America/Toronto:20230402T103000
DTEND;TZID=America/Toronto:20230402T120000
DTSTAMP:20260424T011848
CREATED:20230331T140717Z
LAST-MODIFIED:20230402T030101Z
UID:3940-1680431400-1680436800@christenaction.com
SUMMARY:Culte dominical - 2ème service
DESCRIPTION:Notre 2ème culte du dimanche a lieu de 10h30 à 12h00. \nPrendre note que ce culte n’est pas diffusé en direct sur nos canaux Youtube et Facebook. \n 
URL:http://christenaction.com/event/culte-dominical-2eme-service/
LOCATION:Auditorium Christ en Action Évangélisation\, 2305 Rue holt\, Montréal\, Québec\, H2G 1Y2\, Canada
ATTACH;FMTTYPE=image/jpeg:http://christenaction.com/wp-content/uploads/2021/05/Nouveau_culte-2.jpg
ORGANIZER;CN="Christ en Action %C3%89vang%C3%A9lisation":MAILTO:info@christenaction.com
END:VEVENT
BEGIN:VEVENT
DTSTART;TZID=America/Toronto:20230903T180000
DTEND;TZID=America/Toronto:20230903T203000
DTSTAMP:20260424T011848
CREATED:20230727T193048Z
LAST-MODIFIED:20230727T193048Z
UID:4002-1693764000-1693773000@christenaction.com
SUMMARY:Festival Gospel Montréal
DESCRIPTION:Le Centre Christ en action Montréal et IFOM (International Fofy Ministries) organise le FESTIVAL GOSPEL MONTRÉAL qui se tiendra le 03 septembre 2023 au THÉATRE SAINT-DENIS.\nCe sera un concert riche en prestations avec Évangéline Félix et La Chrorale CAE UneVoix\, l’artiste local Jean Jean et la chantre internationale Sinach.\nVous pouvez vous procurer vos billets au www.ticketpro.ca\nLe commanditaire officiel de l’événement est CHARIS Vitrine pour Christ.\nSi vous voulez faire partie des ceux qui soutiennent cet événement\, contactez-nous au 514-501-3718.
URL:http://christenaction.com/event/festival-gospel-montreal/
ATTACH;FMTTYPE=image/jpeg:http://christenaction.com/wp-content/uploads/2023/07/concert-officiel-nelson.jpeg
END:VEVENT
END:VCALENDAR